BEGIN:VCALENDAR
VERSION:2.0
PRODID:-//ChamberMaster//Event Calendar 2.0//EN
METHOD:PUBLISH
X-PUBLISHED-TTL:P3D
REFRESH-INTERVAL:P3D
CALSCALE:GREGORIAN
BEGIN:VEVENT
DTSTART:20190912T140000Z
DTEND:20190912T160000Z
X-MICROSOFT-CDO-ALLDAYEVENT:FALSE
SUMMARY:2019 Paid Family & Medical Leave Seminar
DESCRIPTION:This session has sold out! Please register for our second session on Sept. 20th\, 10am-Noon here!\n\nComplete Payroll Solutions will present on the new Paid Family & Medical Leave legislation.\n\n\n\nTopics Covered:\n\n\n\nCovered Businesses\n\nEligibility requirements\n\nMaximum leave\n\nContribution calculations\n\nExemption qualifications and applications\n\nWorkforce notifications\n\nExemptions\n\nReporting and documentation
X-ALT-DESC;FMTTYPE=text/html:This session has sold out! <strong><a href="https://members.orleanscapecod.org/events/details/2019-paid-family-medical-leave-seminar-session-two-2515">Please register for our second session on Sept. 20th\, 10am-Noon here!</a></strong><br />\nComplete Payroll Solutions will present on the new Paid Family &amp\; Medical Leave legislation.<br />\n<br />\nTopics Covered:<br />\n<br />\nCovered Businesses<br />\nEligibility requirements<br />\nMaximum leave<br />\nContribution calculations<br />\nExemption qualifications and applications<br />\nWorkforce notifications<br />\nExemptions<br />\nReporting and documentation
LOCATION:Orleans Police Dept. 99 Eldredge Park Way\, Orleans\, MA 02653
UID:e.2118.2510
SEQUENCE:3
DTSTAMP:20260424T181248Z
URL:https://members.orleanscapecod.org/events/details/2019-paid-family-medical-leave-seminar-2510
END:VEVENT

END:VCALENDAR
