BEGIN:VCALENDAR
VERSION:2.0
PRODID:-//ChamberMaster//Event Calendar 2.0//EN
METHOD:PUBLISH
X-PUBLISHED-TTL:P3D
REFRESH-INTERVAL:P3D
CALSCALE:GREGORIAN
BEGIN:VEVENT
DTSTART:20190920T140000Z
DTEND:20190920T160000Z
X-MICROSOFT-CDO-ALLDAYEVENT:FALSE
SUMMARY:2019 Paid Family & Medical Leave Seminar\, Session Two
DESCRIPTION:The first one is so popular that we are running a second one! Registrations are required!\n\nComplete Payroll Solutions will present on the new Paid Family & Medical Leave legislation.\n\n\n\nTopics Covered:\n\n\n\nCovered Businesses\n\nEligibility requirements\n\nMaximum leave\n\nContribution calculations\n\nExemption qualifications and applications\n\nWorkforce notifications\n\nExemptions\n\nReporting and documentation
X-ALT-DESC;FMTTYPE=text/html:The first one is so popular that we are running a second one! Registrations are required!<br />\nComplete Payroll Solutions will present on the new Paid Family &amp\; Medical Leave legislation.<br />\n<br />\nTopics Covered:<br />\n<br />\nCovered Businesses<br />\nEligibility requirements<br />\nMaximum leave<br />\nContribution calculations<br />\nExemption qualifications and applications<br />\nWorkforce notifications<br />\nExemptions<br />\nReporting and documentation
LOCATION:We had to move from the Orleans Police Dept. due to a scheduling conflict. Please note the new location! Old Firehouse Gallery 44 Main St.\, Orleans\, MA 02653
UID:e.2118.2515
SEQUENCE:3
DTSTAMP:20260424T194611Z
URL:https://members.orleanscapecod.org/events/details/2019-paid-family-medical-leave-seminar-session-two-2515
END:VEVENT

END:VCALENDAR
