BEGIN:VCALENDAR
VERSION:2.0
PRODID:-//ChamberMaster//Event Calendar 2.0//EN
METHOD:PUBLISH
X-PUBLISHED-TTL:P3D
REFRESH-INTERVAL:P3D
CALSCALE:GREGORIAN
BEGIN:VEVENT
DTSTART:20260613T210000Z
DTEND:20260613T230000Z
X-MICROSOFT-CDO-ALLDAYEVENT:FALSE
SUMMARY:Art Getting it Right: Art Show\, Demonstration\, Art and Music Reception
DESCRIPTION:Celebrating Pride Month and in Honor of all Civil Liberties\n\n \n\nJoin artists and friends\, along with musician Sarah Burrill\, to discover a new exhibition\, and enjoy libations and rainbow treats with friends\, neighbors and members of PFLAG Cape Cod.\n\n \n\nAs a special attraction\, Marc Kundmann will be demonstrating and explaining the wonders of painting with wax.
X-ALT-DESC;FMTTYPE=text/html:<div>Celebrating Pride Month and in Honor of all Civil Liberties<br />\n&nbsp\;</div>\n\n<div>Join artists and friends\, along with musician Sarah Burrill\, to discover a new exhibition\, and enjoy libations and rainbow treats with friends\, neighbors and members of PFLAG Cape Cod.<br />\n&nbsp\;</div>\n\n<div>As a special attraction\, Marc Kundmann will be demonstrating and explaining the wonders of painting with wax.</div>\n
LOCATION:Addison Art Gallery\, 43 South Orleans Road\, Orleans\, MA 02653
UID:e.2118.23829
SEQUENCE:3
DTSTAMP:20260422T151741Z
URL:https://members.orleanscapecod.org/events/details/art-getting-it-right-art-show-demonstration-art-and-music-reception-23829
END:VEVENT

END:VCALENDAR
