BEGIN:VCALENDAR
VERSION:2.0
PRODID:-//ChamberMaster//Event Calendar 2.0//EN
METHOD:PUBLISH
X-PUBLISHED-TTL:P3D
REFRESH-INTERVAL:P3D
CALSCALE:GREGORIAN
BEGIN:VEVENT
DTSTART:20260904T210000Z
DTEND:20260905T000000Z
X-MICROSOFT-CDO-ALLDAYEVENT:FALSE
SUMMARY:First Friday
DESCRIPTION:Back for our third season\, First Fridays light up Orleans June through September   and new for this season\, we're adding a special Holiday Edition in December. Held on the first Friday of THE month\, local businesses stay open late as shopping\, art\, live music\, and pop-ups create a vibrant evening experience throughout town.
X-ALT-DESC;FMTTYPE=text/html:<h4 dir="ltr" style="line-height:1.38\;margin-top:12pt\;margin-bottom:2pt\;"><span id="docs-internal-guid-d115e51b-7fff-da03-aac2-b0624b04f68e"><span style="font-size: 12pt\; font-family: Montserrat\, sans-serif\; color: rgb(0\, 0\, 0)\; background-color: transparent\; font-variant-numeric: normal\; font-variant-east-asian: normal\; font-variant-alternates: normal\; font-variant-position: normal\; font-variant-emoji: normal\; vertical-align: baseline\; white-space-collapse: preserve\;">Back for our third season\, First Fridays light up Orleans June through September &mdash\; and new for this season\, we&rsquo\;re adding a special Holiday Edition in December. Held on the first Friday of THE month\, local businesses stay open late as shopping\, art\, live music\, and pop-ups create a vibrant evening experience throughout town.</span></span></h4>\n
LOCATION:Orleans\, MA
UID:e.2118.23441
SEQUENCE:3
DTSTAMP:20260420T054525Z
URL:https://members.orleanscapecod.org/events/details/first-friday-23441
END:VEVENT

END:VCALENDAR
