BEGIN:VCALENDAR
VERSION:2.0
PRODID:-//ChamberMaster//Event Calendar 2.0//EN
METHOD:PUBLISH
X-PUBLISHED-TTL:P3D
REFRESH-INTERVAL:P3D
CALSCALE:GREGORIAN
BEGIN:VEVENT
DTSTART:20260605T210000Z
DTEND:20260606T000000Z
X-MICROSOFT-CDO-ALLDAYEVENT:FALSE
SUMMARY:First Friday's in Orleans!
DESCRIPTION:Looking for the perfect way to kick off your summer weekends.\n\nCelebrate First Fridays in Orleans on the first Friday of June\, July\, August\, and September! Shops across Orleans stay open til 8 p.m. with exclusive deals\, special promos\, and pop-up surprises around every corner.\n\nStroll the streets\, enjoy live music\, uncover local treasures\, and soak in the Cape Cod vibe\n\nFirst Fridays in Orleans\, where summer evenings come to life. Live Between the Waves!
X-ALT-DESC;FMTTYPE=text/html:<p dir="ltr" id="docs-internal-guid-4b4c50f0-7fff-3b99-f018-2f3b8437d196" style="line-height:1.38\;margin-top:12pt\;margin-bottom:12pt\;"><span style="font-size:11pt\;font-family:Arial\,sans-serif\;color:#000000\;background-color:transparent\;font-weight:400\;font-style:normal\;font-variant:normal\;text-decoration:none\;vertical-align:baseline\;white-space:pre\;white-space:pre-wrap\;">Looking for the perfect way to kick off your summer weekends.</span><br />\n<span style="font-size:11pt\;font-family:Arial\,sans-serif\;color:#000000\;background-color:transparent\;font-weight:400\;font-style:normal\;font-variant:normal\;text-decoration:none\;vertical-align:baseline\;white-space:pre\;white-space:pre-wrap\;">Celebrate First Fridays in Orleans on the first Friday of June\, July\, August\, and September! Shops across Orleans stay open til 8 p.m. with exclusive deals\, special promos\, and pop-up surprises around every corner.<br />\nStroll the streets\, enjoy live music\, uncover local treasures\, and soak in the Cape Cod vibe<br />\nFirst</span><span style="font-size:11pt\;font-family:Arial\,sans-serif\;color:#000000\;background-color:transparent\;font-weight:400\;font-style:normal\;font-variant:normal\;text-decoration:none\;vertical-align:baseline\;white-space:pre\;white-space:pre-wrap\;"> Fridays in Orleans\, where summer evenings come to life. Live Between the Waves!</span></p>\n
LOCATION:All of Orleans!
UID:e.2118.23858
SEQUENCE:3
DTSTAMP:20260426T015630Z
URL:https://members.orleanscapecod.org/events/details/first-friday-s-in-orleans-23858
END:VEVENT

END:VCALENDAR
