BEGIN:VCALENDAR
VERSION:2.0
PRODID:-//ChamberMaster//Event Calendar 2.0//EN
METHOD:PUBLISH
X-PUBLISHED-TTL:P3D
REFRESH-INTERVAL:P3D
CALSCALE:GREGORIAN
BEGIN:VEVENT
DTSTART:20260426T190000Z
DTEND:20260426T203000Z
X-MICROSOFT-CDO-ALLDAYEVENT:FALSE
SUMMARY:Lighthouse Chamber Players at OHS
DESCRIPTION:Join us for a program of Romantic favorites by Schumann\, Mendelssohn\, and Brahms. Blending lyricism\, drama\, and virtuosity\, these works showcase the beauty and power of chamber music for piano and strings.
X-ALT-DESC;FMTTYPE=text/html:Join us for a program of Romantic favorites by Schumann\, Mendelssohn\, and Brahms. Blending lyricism\, drama\, and virtuosity\, these works showcase the beauty and power of chamber music for piano and strings.&nbsp\;
LOCATION:Orleans Historical Society\, Meeting House at 3 River Rd\, Orleans\, MA
UID:e.2118.23837
SEQUENCE:3
DTSTAMP:20260422T121819Z
URL:https://members.orleanscapecod.org/events/details/lighthouse-chamber-players-at-ohs-23837
END:VEVENT

END:VCALENDAR
