BEGIN:VCALENDAR
VERSION:2.0
PRODID:-//ChamberMaster//Event Calendar 2.0//EN
METHOD:PUBLISH
X-PUBLISHED-TTL:P3D
REFRESH-INTERVAL:P3D
CALSCALE:GREGORIAN
BEGIN:VEVENT
DTSTART:20241207T180000Z
DTEND:20241207T210000Z
X-MICROSOFT-CDO-ALLDAYEVENT:FALSE
SUMMARY:Nauset Model Railroad Club Holiday Open House Days
DESCRIPTION:The Nauset Model Railroad Club will be holding its traditional holiday open house days every Saturday from 1PM to 4PM from November 23 through December 28. \nWe have 5 layouts\, all of which will be operating\, so there will be trains running everywhere you look!  Admission and parking are free\, though we will appreciate donations.  This is a great holiday event for the kids (and some adults who still have the kid in them!)
X-ALT-DESC;FMTTYPE=text/html:<div style="text-align: center\;"><strong>The Nauset Model Railroad Club will be holding its traditional holiday open house days every Saturday from 1PM to 4PM from November 23 through December 28.&nbsp\;</strong></div>\nWe have 5 layouts\, all of which will be operating\, so there will be trains running everywhere you look!&nbsp\; Admission and parking are free\, though we will appreciate donations.&nbsp\; This is a great holiday event for the kids (and some adults who still have the kid in them!)
LOCATION:Rear of Hilltop Plaza
UID:e.2118.13253
SEQUENCE:3
DTSTAMP:20260423T054006Z
URL:https://members.orleanscapecod.org/events/details/nauset-model-railroad-club-holiday-open-house-days-12-07-2024-13253
END:VEVENT

END:VCALENDAR
