BEGIN:VCALENDAR
VERSION:2.0
PRODID:-//ChamberMaster//Event Calendar 2.0//EN
METHOD:PUBLISH
X-PUBLISHED-TTL:P3D
REFRESH-INTERVAL:P3D
CALSCALE:GREGORIAN
BEGIN:VEVENT
DTSTART:20240705T220000Z
DTEND:20240706T000000Z
X-MICROSOFT-CDO-ALLDAYEVENT:FALSE
SUMMARY:Live Music | Pans in Paradise | First Fridays on Main Street
DESCRIPTION:Pans in Paradise is a steel drum band based on Cape Cod\, MA. They entertain with a tropical mix of island favorites\, reggae and classic tunes.
X-ALT-DESC;FMTTYPE=text/html:<span class="x193iq5w xeuugli x13faqbe x1vvkbs x1xmvt09 x1lliihq x1s928wv xhkezso x1gmr53x x1cpjm7i x1fgarty x1943h6x xudqn12 x3x7a5m x6prxxf xvq8zen xo1l8bm xzsf02u" dir="auto">Pans in Paradise is a steel drum band based on Cape Cod\, MA. They entertain with a tropical mix of island favorites\, reggae and classic tunes.</span>
LOCATION:Main Street
UID:e.2118.10352
SEQUENCE:3
DTSTAMP:20260420T194609Z
URL:https://members.orleanscapecod.org/events/details/pans-in-paradise-at-homegraown-boutique-07-05-2024-10352
END:VEVENT

END:VCALENDAR
