BEGIN:VCALENDAR
VERSION:2.0
PRODID:-//ChamberMaster//Event Calendar 2.0//EN
METHOD:PUBLISH
X-PUBLISHED-TTL:P3D
REFRESH-INTERVAL:P3D
CALSCALE:GREGORIAN
BEGIN:VEVENT
DTSTART:20260620T210000Z
DTEND:20260620T230000Z
X-MICROSOFT-CDO-ALLDAYEVENT:FALSE
SUMMARY:Preserving our Land and Life
DESCRIPTION:A new exhibition centered on Cape Cod's Cold Brook Preserve.\n\n\n\nManaged by the Harwich Conservation Trust\, the Robert F. Smith Cold Brook Preserve protects  wildlife habitat\, water quality\, and walking trails. Cold Brook flows through the 66 acres of wetlands and uplands to Saquatucket Harbor on Nantucket Sound. A botanist's delight\, the Preserve hosts more than 280 plant species and 36 nestboxes home to bluebirds\, iridescent blue-green tree swallows and other feathered residents.\n\n \n\nThe reception will include original works created en plein air as well as using reference from studio work based on photographs and trail cams that have captured animals at night and in motion. Music by Cape favorite Sarah Burrill.\n\nA paint out will bring many artists painting together at the Preserve on Friday\, June 19th.\n\n \n\nArtist Andrea Petitto\, manager of the trail cams\, and Helen Addison have worked with dozens of artists creating distinct works of this intriguing area.
X-ALT-DESC;FMTTYPE=text/html:<div>A new exhibition centered on Cape Cod&rsquo\;s Cold Brook Preserve.<br />\n<br />\nManaged by the Harwich Conservation Trust\, the Robert F. Smith Cold Brook Preserve protects &mdash\;wildlife habitat\, water quality\, and walking trails. Cold Brook flows through the 66 acres of wetlands and uplands to Saquatucket Harbor on Nantucket Sound. A botanist&rsquo\;s delight\, the Preserve hosts more than 280 plant species and 36 nestboxes home to bluebirds\, iridescent blue-green tree swallows and other feathered residents.</div>\n\n<div>&nbsp\;</div>\n\n<div>The reception will include original works created en plein air as well as using reference from studio work based on photographs and trail cams that have captured animals at night and in motion. Music by Cape favorite Sarah Burrill.</div>\n\n<div>A paint out will bring many artists painting together at the Preserve on Friday\, June 19th.<br />\n&nbsp\;</div>\n\n<div>Artist Andrea Petitto\, manager of the trail cams\, and Helen Addison have worked with dozens of artists creating distinct works of this intriguing area.</div>\n
LOCATION:Addison Art Gallery\, 42 South Orleans Road\, Orleans\, MA 02653
UID:e.2118.23830
SEQUENCE:3
DTSTAMP:20260422T153858Z
URL:https://members.orleanscapecod.org/events/details/preserving-our-land-and-life-23830
END:VEVENT

END:VCALENDAR
