BEGIN:VCALENDAR
VERSION:2.0
PRODID:-//ChamberMaster//Event Calendar 2.0//EN
METHOD:PUBLISH
X-PUBLISHED-TTL:P3D
REFRESH-INTERVAL:P3D
CALSCALE:GREGORIAN
BEGIN:VEVENT
DTSTART:20241001T130000Z
DTEND:20241001T203000Z
X-MICROSOFT-CDO-ALLDAYEVENT:FALSE
SUMMARY:Remote Basic Mediation Training with Cape Mediation!
DESCRIPTION:Take the first steps in becoming a Mediator?in Cape Mediation's?Online Mediation Training (33 hours). Learn skills that can help you overcome bias in negotiation\, and better manage business\, organizational and personal conflict. This is a fully remote training that meets once a week beginning with a mandatory one-hour orientation on September 24\, 2024.  The training includes hands-on role-play practice\, lectures\, and open office hours for live online one-on-one mentoring.? \n\n\n\nCape Mediation is a nonprofit Center that has been providing Dispute Resolution services and training in the district courts and communities on Cape Cod since 1989.\n\n\n\nREGISTER TODAY!?Early Registration and Student Discounts available.  \n\n\n\nQuestions? Contact us at info@capemediation.org.
X-ALT-DESC;FMTTYPE=text/html:<div>\n<p><span style="color:rgb(51\, 51\, 51)\; font-family:times new roman\,times new roman_embeddedfont\,times new roman_msfontservice\,serif\; font-size:12pt">Take the first steps in becoming a Mediator?in Cape Mediation&#39\;s?</span><span style="font-family:times new roman\,times new roman_embeddedfont\,times new roman_msfontservice\,serif\; font-size:12pt">Online Mediation Training (33 hours). </span><span style="color:rgb(51\, 51\, 51)\; font-family:times new roman\,times new roman_embeddedfont\,times new roman_msfontservice\,serif\; font-size:12pt">Learn skills that can help you overcome bias in negotiation\, and better manage business\, organizational and personal conflict. This is a fully remote training that meets once a week beginning with a mandatory one-hour orientation on September 24\, 2024.&nbsp\; The training includes hands-on role-play practice\, lectures\, and open office hours for live online one-on-one mentoring.</span><span style="font-family:times new roman\,times new roman_embeddedfont\,times new roman_msfontservice\,serif\; font-size:12pt">?&nbsp\;</span><br />\n<br />\nCape Mediation is a nonprofit Center that has been providing Dispute Resolution services and training in the district courts and communities on Cape Cod since 1989.</p>\n</div>\n\n<div>\n<p><a class="Hyperlink SCXW256837275 BCX0" href="https://capemediation.org/register-for-training/" rel="noreferrer noopener" style="-webkit-user-drag: none\; -webkit-tap-highlight-color: transparent\; margin: 0px\; padding: 0px\; user-select: text\; text-decoration-line: none\; color: inherit\;" target="_blank"><span style="color:rgb(70\, 120\, 134)\; font-family:times new roman\,times new roman_embeddedfont\,times new roman_msfontservice\,serif\; font-size:12pt">REGISTER TODAY!</span></a><span style="color:rgb(51\, 51\, 51)\; font-family:times new roman\,times new roman_embeddedfont\,times new roman_msfontservice\,serif\; font-size:12pt">?Early Registration and Student Discounts available.&nbsp\;</span><span style="color:rgb(51\, 51\, 51)\; font-family:times new roman\,times new roman_embeddedfont\,times new roman_msfontservice\,serif\; font-size:12pt">&nbsp\;</span></p>\n</div>\n\n<div>\n<p><strong>Questions?</strong><span style="color:rgb(51\, 51\, 51)\; font-family:times new roman\,times new roman_embeddedfont\,times new roman_msfontservice\,serif\; font-size:12pt"> Contact us at </span><a class="Hyperlink SCXW256837275 BCX0" href="mailto:info@capemediation.org" rel="noreferrer noopener" style="-webkit-user-drag: none\; -webkit-tap-highlight-color: transparent\; margin: 0px\; padding: 0px\; user-select: text\; text-decoration-line: none\; color: inherit\;" target="_blank"><span style="color:rgb(70\, 120\, 134)\; font-family:times new roman\,times new roman_embeddedfont\,times new roman_msfontservice\,serif\; font-size:12pt">info@capemediation.org</span></a><span style="color:rgb(51\, 51\, 51)\; font-family:times new roman\,times new roman_embeddedfont\,times new roman_msfontservice\,serif\; font-size:12pt">.</span><span style="font-family:times new roman\,times new roman_embeddedfont\,times new roman_msfontservice\,serif\; font-size:12pt">&nbsp\;</span><span style="font-family:times new roman\,times new roman_embeddedfont\,times new roman_msfontservice\,serif\; font-size:12pt">&nbsp\;</span></p>\n</div>\n\n<div>\n<p><span style="font-family:times new roman\,times new roman_embeddedfont\,times new roman_msfontservice\,serif\; font-size:12pt">&nbsp\;</span></p>\n</div>\n
LOCATION:This training is offered fully remote on zoom!
UID:e.2118.12038
SEQUENCE:3
DTSTAMP:20260419T120757Z
URL:https://members.orleanscapecod.org/events/details/remote-basic-mediation-training-with-cape-mediation-10-01-2024-12038
END:VEVENT

END:VCALENDAR
