BEGIN:VCALENDAR
VERSION:2.0
PRODID:-//ChamberMaster//Event Calendar 2.0//EN
METHOD:PUBLISH
X-PUBLISHED-TTL:P3D
REFRESH-INTERVAL:P3D
CALSCALE:GREGORIAN
BEGIN:VEVENT
DTSTART:20260430T210000Z
DTEND:20260430T230000Z
X-MICROSOFT-CDO-ALLDAYEVENT:FALSE
SUMMARY:Town Meeting: Let's Explore the Warrant
DESCRIPTION:Town meeting will be held on May 11\, 2026.  To better prepare voters for this important event\, OCF's next Forum on April 30 will host a discussion on two key articles in the Town Meeting Warrant. \n\n \n\n	Article 17 authorizes borrowing up to $60 million for the construction of a new Fire/Rescue Station. The panel will include Fire Chief Geof Deering\, Select Board Chair Kevin Galligan\, and Finance Committee member John Cooper.\n\n \n\n\n	Article 25 provides for funding $2.7 million toward preliminary expenses on Phase 4 of Orleans' ongoing sewer project. The panel will include DPW and Natural Resources Director Richard J. Waldo\, a representative of the Wastewater Management Advisory Committee\, and Finance Committee member David Abel.\n\n \n\nAudience participation will be very important.
X-ALT-DESC;FMTTYPE=text/html:Town meeting will be held on May 11\, 2026.&nbsp\; To better prepare voters for this important event\, OCF&rsquo\;s next Forum on April 30 will host a discussion on two key articles in the Town Meeting Warrant.&nbsp\;<br />\n&nbsp\;\n<ul>\n	<li>Article 17 authorizes borrowing up to $60 million for the construction of a new Fire/Rescue Station. The panel will include Fire Chief Geof Deering\, Select Board Chair Kevin Galligan\, and Finance Committee member John Cooper.</li>\n</ul>\n&nbsp\;\n\n<ul>\n	<li>Article 25 provides for funding $2.7 million toward preliminary expenses on Phase 4 of Orleans&rsquo\; ongoing sewer project. The panel will include DPW and Natural Resources Director Richard J. Waldo\, a representative of the Wastewater Management Advisory Committee\, and Finance Committee member David Abel.</li>\n</ul>\n&nbsp\;<br />\nAudience participation will be very important.&nbsp\;
LOCATION:5 Namskaket Road\, Orleans\, MA
UID:e.2118.23840
SEQUENCE:3
DTSTAMP:20260422T164853Z
URL:https://members.orleanscapecod.org/events/details/town-meeting-let-s-explore-the-warrant-23840
END:VEVENT

END:VCALENDAR
