BEGIN:VCALENDAR
VERSION:2.0
PRODID:-//ChamberMaster//Event Calendar 2.0//EN
METHOD:PUBLISH
X-PUBLISHED-TTL:P3D
REFRESH-INTERVAL:P3D
CALSCALE:GREGORIAN
BEGIN:VEVENT
DTSTART:20260415T223000Z
DTEND:20260416T003000Z
X-MICROSOFT-CDO-ALLDAYEVENT:FALSE
SUMMARY:Wildlife on Tap: The Global Importance of Seagrass Conservation
DESCRIPTION:The Global Importance of Seagrass Conservation\n\nPresented by Dr. Agnes Mittermayr from SeagrassNet\n\nSeagrasses stabilize shorelines\, buffer communities from storm surges\, purify coastal waters\, provide vital nursery habitat\, and store carbon. Yet coastal development\, pollution\, warming oceans\, and rising sea levels are threatening seagrass at an alarming rate. Discover how scientists around the world are uniting to confront this crisis and protect these essential underwater ecosystems.\n\nGet the details and register at massaudubon.org/wildlifeontap
X-ALT-DESC;FMTTYPE=text/html:<h2>The Global Importance of Seagrass Conservation</h2>\n\n<h3><span style="font-size:13px">Presented by Dr. Agnes Mittermayr from SeagrassNet</span></h3>\n\n<p>Seagrasses stabilize shorelines\, buffer communities from storm surges\, purify coastal waters\, provide vital nursery habitat\, and store carbon. Yet coastal development\, pollution\, warming oceans\, and rising sea levels are threatening seagrass at an alarming rate. Discover how scientists around the world are uniting to confront this crisis and protect these essential underwater ecosystems.</p>\n\n<p>Get the details and register at massaudubon.org/wildlifeontap</p>\n
LOCATION:Cape Cod Beer\, 1336 Phinney's Lane\, Hyannis
UID:e.2118.22316
SEQUENCE:3
DTSTAMP:20260422T122412Z
URL:https://members.orleanscapecod.org/events/details/wildlife-on-tap-the-global-importance-of-seagrass-conservation-22316
END:VEVENT

END:VCALENDAR
